BEGIN:VCALENDAR
VERSION:2.0
PRODID:-//MINERVA European Support Centre - ECPv6.15.20//NONSGML v1.0//EN
CALSCALE:GREGORIAN
METHOD:PUBLISH
X-WR-CALNAME:MINERVA European Support Centre
X-ORIGINAL-URL:https://minerva4ai.eu
X-WR-CALDESC:Events for MINERVA European Support Centre
REFRESH-INTERVAL;VALUE=DURATION:PT1H
X-Robots-Tag:noindex
X-PUBLISHED-TTL:PT1H
BEGIN:VTIMEZONE
TZID:Europe/Rome
BEGIN:DAYLIGHT
TZOFFSETFROM:+0100
TZOFFSETTO:+0200
TZNAME:CEST
DTSTART:20250330T010000
END:DAYLIGHT
BEGIN:STANDARD
TZOFFSETFROM:+0200
TZOFFSETTO:+0100
TZNAME:CET
DTSTART:20251026T010000
END:STANDARD
BEGIN:DAYLIGHT
TZOFFSETFROM:+0100
TZOFFSETTO:+0200
TZNAME:CEST
DTSTART:20260329T010000
END:DAYLIGHT
BEGIN:STANDARD
TZOFFSETFROM:+0200
TZOFFSETTO:+0100
TZNAME:CET
DTSTART:20261025T010000
END:STANDARD
BEGIN:DAYLIGHT
TZOFFSETFROM:+0100
TZOFFSETTO:+0200
TZNAME:CEST
DTSTART:20270328T010000
END:DAYLIGHT
BEGIN:STANDARD
TZOFFSETFROM:+0200
TZOFFSETTO:+0100
TZNAME:CET
DTSTART:20271031T010000
END:STANDARD
END:VTIMEZONE
BEGIN:VEVENT
DTSTART;TZID=Europe/Rome:20260302T130000
DTEND;TZID=Europe/Rome:20260302T140000
DTSTAMP:20260418T074939
CREATED:20260217T093128Z
LAST-MODIFIED:20260218T095314Z
UID:906-1772456400-1772460000@minerva4ai.eu
SUMMARY:MINERVA Webinar #3 - AMD Enterprise AI Suite
DESCRIPTION:Join us as we explore the AMD Enterprise AI suite\, which helps organizations scale AI from experimentation to production with an open and modular platform. \n\n\n\nAgenda \n\n\n\n\nIntroduction (5 mins)\n\nWelcome & MINERVA Project overview from the coordinator Cineca\n\n\n\nOverview of AMD’s Role in AI: A brief look into how AMD is pioneering advancements in AI to empower innovation and drive efficiency across industries. \n\n\n\n\n\nCommon Challenges with AI Solutions in Enterprises (5 mins)\n\nDiscussion on typical obstacles faced by enterprises in deploying AI solutions\, focusing on the journey from experimentation to production. \n\n\n\n\n\nDemo: AMD Enterprise AI Solution (30 mins)\n\nLive demonstration showcasing the features and capabilities of the AMD Enterprise AI Suite\, highlighting how it addresses key enterprise challenges. \n\n\n\n\n\nQ&A Session (10 mins)\n\nOpen floor for questions
URL:https://minerva4ai.eu/event/minerva-webinar-3-amd-enterprise-ai-suite/
LOCATION:Online
ORGANIZER;CN="MINERVA":MAILTO:info@minerva4ai.eu
END:VEVENT
BEGIN:VEVENT
DTSTART;TZID=Europe/Rome:20260313T110000
DTEND;TZID=Europe/Rome:20260313T140000
DTSTAMP:20260418T074939
CREATED:20260310T100143Z
LAST-MODIFIED:20260310T100143Z
UID:922-1773399600-1773410400@minerva4ai.eu
SUMMARY:ELLIOT & MINERVA Workshop on AI and HPC
DESCRIPTION:As foundation models and other large AI systems continue to scale\, the field faces a growing set of methodological and computational challenges — from efficient training strategies and system-level constraints to reproducibility\, performance optimisation\, and responsible use of compute resources. This workshop will provide a dedicated space to discuss these challenges and explore emerging approaches that advance HPC-AI knowledge across Europe. \n\n\n\nMore details\n\n\n\nhttps://elliot-ai.eu/events/elliot-minerva-workshop-on-ai-and-hpc
URL:https://minerva4ai.eu/event/elliot-minerva-workshop-on-ai-and-hpc/
END:VEVENT
END:VCALENDAR