BEGIN:VCALENDAR
VERSION:2.0
PRODID:-//MINERVA European Support Centre - ECPv6.15.20//NONSGML v1.0//EN
CALSCALE:GREGORIAN
METHOD:PUBLISH
X-WR-CALNAME:MINERVA European Support Centre
X-ORIGINAL-URL:https://minerva4ai.eu
X-WR-CALDESC:Events for MINERVA European Support Centre
REFRESH-INTERVAL;VALUE=DURATION:PT1H
X-Robots-Tag:noindex
X-PUBLISHED-TTL:PT1H
BEGIN:VTIMEZONE
TZID:Europe/Rome
BEGIN:DAYLIGHT
TZOFFSETFROM:+0100
TZOFFSETTO:+0200
TZNAME:CEST
DTSTART:20250330T010000
END:DAYLIGHT
BEGIN:STANDARD
TZOFFSETFROM:+0200
TZOFFSETTO:+0100
TZNAME:CET
DTSTART:20251026T010000
END:STANDARD
BEGIN:DAYLIGHT
TZOFFSETFROM:+0100
TZOFFSETTO:+0200
TZNAME:CEST
DTSTART:20260329T010000
END:DAYLIGHT
BEGIN:STANDARD
TZOFFSETFROM:+0200
TZOFFSETTO:+0100
TZNAME:CET
DTSTART:20261025T010000
END:STANDARD
BEGIN:DAYLIGHT
TZOFFSETFROM:+0100
TZOFFSETTO:+0200
TZNAME:CEST
DTSTART:20270328T010000
END:DAYLIGHT
BEGIN:STANDARD
TZOFFSETFROM:+0200
TZOFFSETTO:+0100
TZNAME:CET
DTSTART:20271031T010000
END:STANDARD
END:VTIMEZONE
BEGIN:VEVENT
DTSTART;TZID=Europe/Rome:20260120T110000
DTEND;TZID=Europe/Rome:20260120T120000
DTSTAMP:20260421T182911
CREATED:20260113T143636Z
LAST-MODIFIED:20260120T162221Z
UID:823-1768906800-1768910400@minerva4ai.eu
SUMMARY:Webinar #2 - AI For SMEs
DESCRIPTION:Small and medium-sized enterprises (SMEs) are key contributors to economic growth and innovation\, yet they often encounter concrete barriers when adopting artificial intelligence in a structured and sustainable manner. These barriers typically include limited internal expertise\, constrained access to computational resources\, uncertainty in identifying high-impact use cases\, concerns about costs\, and the need to ensure data protection\, security\, and regulatory compliance.This webinar provides a focused overview of how MINERVA services support SMEs in overcoming these challenges. Participants will gain a clear understanding of the services available\, eligibility and access pathways\, and the forms of practical support offered\, from initial guidance and training to advanced technical assistance for developing and optimising AI applications using high-performance computing resources. The session will also feature user success stories to illustrate applied outcomes and lessons learned. \n\n\n\nAgenda overview\n\n\n\n\nWelcome and project introduction (5 min)\n\n\n\nCommon issues for SMEs in adopting AI (10 min)\n\n\n\nMINERVA services: summary (10 min)\n\n\n\nWhat MINERVA can do for SMEs: benefits and support activities (10 min)\n\n\n\nSuccess stories from users (10 min)\n\n\n\nHow to contact MINERVA and request support (5 min)\n\n\n\nQ&A session (5 min)\n\n\n\n\n\n\n\n\n\n\n\n\n\n\nRecordings\n\n\n\n\n\n\n\n\n\nMaterials\n\n\n\nMINERVA_ppt_webinar_2- v01_shareDownload
URL:https://minerva4ai.eu/event/webinar-2-ai-for-smes/
LOCATION:Online
ORGANIZER;CN="MINERVA":MAILTO:info@minerva4ai.eu
END:VEVENT
BEGIN:VEVENT
DTSTART;TZID=Europe/Rome:20260123T120000
DTEND;TZID=Europe/Rome:20260123T130000
DTSTAMP:20260421T182911
CREATED:20260201T233100Z
LAST-MODIFIED:20260203T100540Z
UID:844-1769169600-1769173200@minerva4ai.eu
SUMMARY:ELLIOT Webinar - Guidelines for EuroHPC applications
DESCRIPTION:This internal webinar was organised and hosted by ELLIOT as part of the T9.5 – HPC Management activities\, to present best practices for preparing applications to EuroHPC systems. Thanks to a valuable collaboration with the ELLIOT project\, MINERVA was able to make the content available more broadly\, reinforcing a shared commitment to support and inform the AI on HPC community. \n\n\n\nThe session features contributions from Laura Cavalli (CINECA) and Markus Koskela (CSC)\, who provided both strategic guidance and a practical walkthrough of the EuroHPC application forms. \n\n\n\nDuring the webinar\, the speakers also examine the specific characteristics of major EuroHPC supercomputers\, with a focus on LUMI and Leonardo. Their insights are particularly useful for users involved in HPC project preparation\, proposal development\, and resource planning. \n\n\n\n\n\n\n\n\n\n\n\n\n\nRecordings\n\n\n\n\n\n\n\n\n\nMaterials\n\n\n\nGuidelines_EuroHPCDownload
URL:https://minerva4ai.eu/event/elliot-webinar-guidelines-for-eurohpc-applications/
LOCATION:Online
END:VEVENT
END:VCALENDAR