BEGIN:VCALENDAR
VERSION:2.0
PRODID:-//MINERVA European Support Centre - ECPv6.15.20//NONSGML v1.0//EN
CALSCALE:GREGORIAN
METHOD:PUBLISH
X-WR-CALNAME:MINERVA European Support Centre
X-ORIGINAL-URL:https://minerva4ai.eu
X-WR-CALDESC:Events for MINERVA European Support Centre
REFRESH-INTERVAL;VALUE=DURATION:PT1H
X-Robots-Tag:noindex
X-PUBLISHED-TTL:PT1H
BEGIN:VTIMEZONE
TZID:Europe/Rome
BEGIN:DAYLIGHT
TZOFFSETFROM:+0100
TZOFFSETTO:+0200
TZNAME:CEST
DTSTART:20250330T010000
END:DAYLIGHT
BEGIN:STANDARD
TZOFFSETFROM:+0200
TZOFFSETTO:+0100
TZNAME:CET
DTSTART:20251026T010000
END:STANDARD
BEGIN:DAYLIGHT
TZOFFSETFROM:+0100
TZOFFSETTO:+0200
TZNAME:CEST
DTSTART:20260329T010000
END:DAYLIGHT
BEGIN:STANDARD
TZOFFSETFROM:+0200
TZOFFSETTO:+0100
TZNAME:CET
DTSTART:20261025T010000
END:STANDARD
BEGIN:DAYLIGHT
TZOFFSETFROM:+0100
TZOFFSETTO:+0200
TZNAME:CEST
DTSTART:20270328T010000
END:DAYLIGHT
BEGIN:STANDARD
TZOFFSETFROM:+0200
TZOFFSETTO:+0100
TZNAME:CET
DTSTART:20271031T010000
END:STANDARD
END:VTIMEZONE
BEGIN:VEVENT
DTSTART;TZID=Europe/Rome:20260429T143000
DTEND;TZID=Europe/Rome:20260429T153000
DTSTAMP:20260422T024530
CREATED:20260403T094453Z
LAST-MODIFIED:20260403T094453Z
UID:933-1777473000-1777476600@minerva4ai.eu
SUMMARY:MINERVA Webinar #4 - HPC Coding Agents
DESCRIPTION:The HPC users’ primary goal is scientific discovery. However\, many encounter continuous obstacles when running code on HPC systems. Issues such as configuring environments\, managing modules\, writing job scripts\, and defining correct paths often distract from research goals. We are working to address some of these challenges. \n\n\n\nIn this presentation\, we will introduce and demonstrate an initial coding agent developed by AMD Silo AI specifically for HPC centres. We are designing it to integrate effortlessly with popular coding assistants including Cline\, Claude Code\, and Cursor. The HPC Coding Agent is especially well-suited for scientists\, engineers\, and data teams working with AMD-based HPC systems.
URL:https://minerva4ai.eu/event/minerva-webinar-4-hpc-coding-agents/
LOCATION:Online
END:VEVENT
END:VCALENDAR