BEGIN:VCALENDAR
VERSION:2.0
PRODID:-//MINERVA European Support Centre - ECPv6.15.20//NONSGML v1.0//EN
CALSCALE:GREGORIAN
METHOD:PUBLISH
X-WR-CALNAME:MINERVA European Support Centre
X-ORIGINAL-URL:https://minerva4ai.eu
X-WR-CALDESC:Events for MINERVA European Support Centre
REFRESH-INTERVAL;VALUE=DURATION:PT1H
X-Robots-Tag:noindex
X-PUBLISHED-TTL:PT1H
BEGIN:VTIMEZONE
TZID:Europe/Rome
BEGIN:DAYLIGHT
TZOFFSETFROM:+0100
TZOFFSETTO:+0200
TZNAME:CEST
DTSTART:20240331T010000
END:DAYLIGHT
BEGIN:STANDARD
TZOFFSETFROM:+0200
TZOFFSETTO:+0100
TZNAME:CET
DTSTART:20241027T010000
END:STANDARD
BEGIN:DAYLIGHT
TZOFFSETFROM:+0100
TZOFFSETTO:+0200
TZNAME:CEST
DTSTART:20250330T010000
END:DAYLIGHT
BEGIN:STANDARD
TZOFFSETFROM:+0200
TZOFFSETTO:+0100
TZNAME:CET
DTSTART:20251026T010000
END:STANDARD
BEGIN:DAYLIGHT
TZOFFSETFROM:+0100
TZOFFSETTO:+0200
TZNAME:CEST
DTSTART:20260329T010000
END:DAYLIGHT
BEGIN:STANDARD
TZOFFSETFROM:+0200
TZOFFSETTO:+0100
TZNAME:CET
DTSTART:20261025T010000
END:STANDARD
END:VTIMEZONE
BEGIN:VEVENT
DTSTART;TZID=Europe/Rome:20251215T140000
DTEND;TZID=Europe/Rome:20251215T163000
DTSTAMP:20260421T222423
CREATED:20251211T105459Z
LAST-MODIFIED:20260112T113751Z
UID:789-1765807200-1765816200@minerva4ai.eu
SUMMARY:Minerva for Large-Scale Vision & Language Models: Architectures and Parallelism
DESCRIPTION:A deep dive into cutting-edge AI and HPC topics\, from scaling laws and transformer architectures to data and model parallelism techniques for large-scale training.Program \n\n\n\n\nIntroduction to Minerva and to large-scale models in Vision\, Language and Multimedia\n\n\n\nTutorial on data&model parallelism\n\n\n\n\n\n\n\n\n\n\n\n\n\n\n\n\n\n\nRecordings\n\n\n\n\n\n\n\n\n\nMaterials\n\n\n\n20251214_MINERVADownload\n\n\n\nDataParallel_Minerva_LCDownload
URL:https://minerva4ai.eu/event/minerva-for-large-scale-vision-language-models-architectures-and-parallelism/
LOCATION:Online
END:VEVENT
BEGIN:VEVENT
DTSTART;TZID=Europe/Rome:20251202T110000
DTEND;TZID=Europe/Rome:20251202T120000
DTSTAMP:20260421T222423
CREATED:20251117T152746Z
LAST-MODIFIED:20260112T113626Z
UID:737-1764673200-1764676800@minerva4ai.eu
SUMMARY:Webinar #1 - MINERVA Services
DESCRIPTION:This webinar\, after a short introduction from the project coordinator CINECA\, will showcase the core services offered by the MINERVA European Support Center\, with a focus on how AI researchers and developers can benefit from the support provided under Work Package 2 (WP2 – MINERVA Services) and Work Package 3 (WP3 – Technical Support to Service Delivery). \n\n\n\nMINERVA Services are designed to deliver user-facing AI benefits\, helping users port\, adapt\, scale\, and optimize large-scale AI workflows—especially those involving open foundation models—on cutting-edge supercomputing resources. \n\n\n\nMINERVA Technical Support team develops the technical infrastructure that powers services. This includes provisioning tools\, performance benchmarking\, and best practice guidelines. It also manages the unified ticketing system that connects users to the right support across the MINERVA network and its European partners. \n\n\n\nAgenda Overview: \n\n\n\n\nWelcome and project introduction\n\n\n\nOverview of MINERVA services\n\n\n\nHow to contact MINERVA and request support\n\n\n\nAdditional activities: benchmarking\, best practices\n\n\n\nQ&A session\n\n\n\n\n\n\n\n\n\n\n\n\nRecordings\n\n\n\n\n\n\n\n\n\nMaterials\n\n\n\nMINERVA_webinar_1Download
URL:https://minerva4ai.eu/event/webinar-1-minerva-services/
LOCATION:Online
ORGANIZER;CN="MINERVA":MAILTO:info@minerva4ai.eu
END:VEVENT
BEGIN:VEVENT
DTSTART;VALUE=DATE:20250923
DTEND;VALUE=DATE:20250924
DTSTAMP:20260421T222423
CREATED:20251014T141314Z
LAST-MODIFIED:20251015T151412Z
UID:435-1758585600-1758671999@minerva4ai.eu
SUMMARY:Tutorial: AI Agents - GCPR 2025
DESCRIPTION:This tutorial highlights two essential frameworks for developing robust\, multi-step agents: LangGraph and the Model Context Protocol (MCP). For additional resources\, please refer to the companion repository.
URL:https://minerva4ai.eu/event/tutorial-ai-agents-gcpr-2025/
END:VEVENT
BEGIN:VEVENT
DTSTART;VALUE=DATE:20250916
DTEND;VALUE=DATE:20250917
DTSTAMP:20260421T222423
CREATED:20251014T141331Z
LAST-MODIFIED:20251014T141331Z
UID:431-1757980800-1758067199@minerva4ai.eu
SUMMARY:HPC for AI Research - ICIAP 2025
DESCRIPTION:This tutorial focuses on the computational aspects of training and deploying large-scale AI models using high-performance computing (HPC). Topics include distributed training\, multi-GPU and multi-node acceleration\, mixed-precision optimization\, efficient data handling\, and resource management on supercomputing clusters. Special attention is given to transformer-based architectures\, self- and semi-supervised learning\, and energy-efficient AI practices. Participants will gain both theoretical insights and hands-on experience with frameworks such as PyTorch and DeepSpeed\, learning best practices for scalable and sustainable AI research on HPC infrastructures.
URL:https://minerva4ai.eu/event/hpc-for-ai-research-iciap-2025/
END:VEVENT
END:VCALENDAR