BEGIN:VCALENDAR
VERSION:2.0
PRODID:-//MINERVA European Support Centre - ECPv6.15.20//NONSGML v1.0//EN
CALSCALE:GREGORIAN
METHOD:PUBLISH
X-WR-CALNAME:MINERVA European Support Centre
X-ORIGINAL-URL:https://minerva4ai.eu
X-WR-CALDESC:Events for MINERVA European Support Centre
REFRESH-INTERVAL;VALUE=DURATION:PT1H
X-Robots-Tag:noindex
X-PUBLISHED-TTL:PT1H
BEGIN:VTIMEZONE
TZID:Europe/Rome
BEGIN:DAYLIGHT
TZOFFSETFROM:+0100
TZOFFSETTO:+0200
TZNAME:CEST
DTSTART:20250330T010000
END:DAYLIGHT
BEGIN:STANDARD
TZOFFSETFROM:+0200
TZOFFSETTO:+0100
TZNAME:CET
DTSTART:20251026T010000
END:STANDARD
BEGIN:DAYLIGHT
TZOFFSETFROM:+0100
TZOFFSETTO:+0200
TZNAME:CEST
DTSTART:20260329T010000
END:DAYLIGHT
BEGIN:STANDARD
TZOFFSETFROM:+0200
TZOFFSETTO:+0100
TZNAME:CET
DTSTART:20261025T010000
END:STANDARD
BEGIN:DAYLIGHT
TZOFFSETFROM:+0100
TZOFFSETTO:+0200
TZNAME:CEST
DTSTART:20270328T010000
END:DAYLIGHT
BEGIN:STANDARD
TZOFFSETFROM:+0200
TZOFFSETTO:+0100
TZNAME:CET
DTSTART:20271031T010000
END:STANDARD
END:VTIMEZONE
BEGIN:VEVENT
DTSTART;TZID=Europe/Rome:20260223T000000
DTEND;TZID=Europe/Rome:20260227T235959
DTSTAMP:20260418T033640
CREATED:20251218T144522Z
LAST-MODIFIED:20260302T160546Z
UID:806-1771804800-1772236799@minerva4ai.eu
SUMMARY:MINERVA Winter AI School
DESCRIPTION:The Winter AI School offers an intensive\, hands-on learning experience that explores the latest advancements in artificial intelligence. There is a strong focus on high-performance computing (HPC)\, computer vision\, large language models (LLMs)\, multimodal models and the profiling and optimisation of large-scale AI training.  Spanning five days\, the school brings together experts from leading institutions\, including Cineca\, UNIMORE and BSC\, to provide participants with state-of-the-art knowledge and practical skills.On the final day\, participants will work in teams to solve a practical challenge related to either computer vision or LLM scalability. The school is designed for individuals seeking practical skills in advanced AI and large-scale model training. It blends expert lectures\, hands-on sessions and competitive challenges.Participants will gain valuable experience in deploying AI at scale across vision and language domain. \n\n\n\nAgenda\n\n\n\nAI_winterschool_agenda_v0.1Download\n\n\n\n\n\n\n\n\n\nHow to reach CINECA – Bologna\n\n\n\nhttps://www.hpc.cineca.it/about-us/contacts/cineca-bologna/ \n\n\n\n\n\n\n\nMaterials repository\n\n\n\nhttps://github.com/minerva4ai-eu/AI_winter_school_students
URL:https://minerva4ai.eu/event/minerva-winter-ai-school/
LOCATION:Cineca – Von Neumann Room\, Via Magnanelli\, 6/3\, Casalecchio di Reno\, Italy
ORGANIZER;CN="MINERVA":MAILTO:info@minerva4ai.eu
END:VEVENT
END:VCALENDAR