BEGIN:VCALENDAR
VERSION:2.0
PRODID:-//MINERVA European Support Centre - ECPv6.15.20//NONSGML v1.0//EN
CALSCALE:GREGORIAN
METHOD:PUBLISH
X-WR-CALNAME:MINERVA European Support Centre
X-ORIGINAL-URL:https://minerva4ai.eu
X-WR-CALDESC:Events for MINERVA European Support Centre
REFRESH-INTERVAL;VALUE=DURATION:PT1H
X-Robots-Tag:noindex
X-PUBLISHED-TTL:PT1H
BEGIN:VTIMEZONE
TZID:Europe/Rome
BEGIN:DAYLIGHT
TZOFFSETFROM:+0100
TZOFFSETTO:+0200
TZNAME:CEST
DTSTART:20240331T010000
END:DAYLIGHT
BEGIN:STANDARD
TZOFFSETFROM:+0200
TZOFFSETTO:+0100
TZNAME:CET
DTSTART:20241027T010000
END:STANDARD
BEGIN:DAYLIGHT
TZOFFSETFROM:+0100
TZOFFSETTO:+0200
TZNAME:CEST
DTSTART:20250330T010000
END:DAYLIGHT
BEGIN:STANDARD
TZOFFSETFROM:+0200
TZOFFSETTO:+0100
TZNAME:CET
DTSTART:20251026T010000
END:STANDARD
BEGIN:DAYLIGHT
TZOFFSETFROM:+0100
TZOFFSETTO:+0200
TZNAME:CEST
DTSTART:20260329T010000
END:DAYLIGHT
BEGIN:STANDARD
TZOFFSETFROM:+0200
TZOFFSETTO:+0100
TZNAME:CET
DTSTART:20261025T010000
END:STANDARD
END:VTIMEZONE
BEGIN:VEVENT
DTSTART;TZID=Europe/Rome:20251215T140000
DTEND;TZID=Europe/Rome:20251215T163000
DTSTAMP:20260418T044322
CREATED:20251211T105459Z
LAST-MODIFIED:20260112T113751Z
UID:789-1765807200-1765816200@minerva4ai.eu
SUMMARY:Minerva for Large-Scale Vision & Language Models: Architectures and Parallelism
DESCRIPTION:A deep dive into cutting-edge AI and HPC topics\, from scaling laws and transformer architectures to data and model parallelism techniques for large-scale training.Program \n\n\n\n\nIntroduction to Minerva and to large-scale models in Vision\, Language and Multimedia\n\n\n\nTutorial on data&model parallelism\n\n\n\n\n\n\n\n\n\n\n\n\n\n\n\n\n\n\nRecordings\n\n\n\n\n\n\n\n\n\nMaterials\n\n\n\n20251214_MINERVADownload\n\n\n\nDataParallel_Minerva_LCDownload
URL:https://minerva4ai.eu/event/minerva-for-large-scale-vision-language-models-architectures-and-parallelism/
LOCATION:Online
END:VEVENT
END:VCALENDAR